BEGIN:VCALENDAR
VERSION:2.0
PRODID:-//Herzlich Willkommen in Helmeringhausen! - ECPv6.15.20//NONSGML v1.0//EN
CALSCALE:GREGORIAN
METHOD:PUBLISH
X-WR-CALNAME:Herzlich Willkommen in Helmeringhausen!
X-ORIGINAL-URL:https://dorfhelmeringhausen.de
X-WR-CALDESC:Veranstaltungen für Herzlich Willkommen in Helmeringhausen!
REFRESH-INTERVAL;VALUE=DURATION:PT1H
X-Robots-Tag:noindex
X-PUBLISHED-TTL:PT1H
BEGIN:VTIMEZONE
TZID:UTC
BEGIN:STANDARD
TZOFFSETFROM:+0000
TZOFFSETTO:+0000
TZNAME:UTC
DTSTART:20250101T000000
END:STANDARD
END:VTIMEZONE
BEGIN:VEVENT
DTSTART;VALUE=DATE:20260508
DTEND;VALUE=DATE:20260509
DTSTAMP:20260419T122601
CREATED:20260408T190204Z
LAST-MODIFIED:20260408T190204Z
UID:705-1778198400-1778284799@dorfhelmeringhausen.de
SUMMARY:Generalversammlung Schützenbruderschaft
DESCRIPTION:
URL:https://dorfhelmeringhausen.de/event/generalversammlung-schuetzenbruderschaft/
LOCATION:Schützenhalle\, Zu den Schützenlinden\, Helmeringhausen\, 59939
END:VEVENT
BEGIN:VEVENT
DTSTART;TZID=UTC:20260514T080000
DTEND;TZID=UTC:20260514T170000
DTSTAMP:20260419T122601
CREATED:20260408T190314Z
LAST-MODIFIED:20260408T190314Z
UID:707-1778745600-1778778000@dorfhelmeringhausen.de
SUMMARY:Dorffest
DESCRIPTION:
URL:https://dorfhelmeringhausen.de/event/dorffest/
LOCATION:Schützenhalle\, Zu den Schützenlinden\, Helmeringhausen\, 59939
END:VEVENT
END:VCALENDAR